BEGIN:VCALENDAR
VERSION:2.0
PRODID:-//Soy Vinícola - ECPv6.15.16//NONSGML v1.0//EN
CALSCALE:GREGORIAN
METHOD:PUBLISH
X-WR-CALNAME:Soy Vinícola
X-ORIGINAL-URL:https://soyvinicola.com
X-WR-CALDESC:Eventos para Soy Vinícola
REFRESH-INTERVAL;VALUE=DURATION:PT1H
X-Robots-Tag:noindex
X-PUBLISHED-TTL:PT1H
BEGIN:VTIMEZONE
TZID:America/Mexico_City
BEGIN:STANDARD
TZOFFSETFROM:-0600
TZOFFSETTO:-0600
TZNAME:CST
DTSTART:20240101T000000
END:STANDARD
END:VTIMEZONE
BEGIN:VEVENT
DTSTART;TZID=America/Mexico_City:20250609T120000
DTEND;TZID=America/Mexico_City:20250609T120000
DTSTAMP:20260425T151702
CREATED:20251023T000414Z
LAST-MODIFIED:20251028T213948Z
UID:30341-1749470400-1749470400@soyvinicola.com
SUMMARY:Vinicola Pozo de Luna
DESCRIPTION:Sé parte del origen del vino y lleva contigo un recuerdo inolvidable de la temporada. Reserva en 444 142 2423
URL:https://soyvinicola.com/eventos/vinicola-pozo-de-luna-2/
CATEGORIES:Vendimia
END:VEVENT
BEGIN:VEVENT
DTSTART;TZID=America/Mexico_City:20250607T123000
DTEND;TZID=America/Mexico_City:20250607T123000
DTSTAMP:20260425T151702
CREATED:20251028T201351Z
LAST-MODIFIED:20251028T214350Z
UID:30822-1749299400-1749299400@soyvinicola.com
SUMMARY:Vive el Vino
DESCRIPTION:El evento que celebra la pasión por el vino\, reuniendo a más de 50 bodegas nacionales\, experiencias de maridaje únicas\, gastronomía de primer nivel y música en vivo. 7 y 8 de Junio.
URL:https://soyvinicola.com/eventos/vive-el-vino-3/
CATEGORIES:Expo
END:VEVENT
BEGIN:VEVENT
DTSTART;TZID=America/Mexico_City:20250606T120000
DTEND;TZID=America/Mexico_City:20250606T120000
DTSTAMP:20260425T151702
CREATED:20251023T000214Z
LAST-MODIFIED:20251028T212349Z
UID:30308-1749211200-1749211200@soyvinicola.com
SUMMARY:13o. Festival Internacional del Vino de San Luis Potosi
DESCRIPTION:No te pierdas de +500 Vinos de todo el Mundo\, Bodegas Nacionales\, Bodegas InternacionalesCerveza Artesanal\, Mezcales\, Experiencias Gastronómicas Catas Premium y mucho mas el 6 y 7 de junio.
URL:https://soyvinicola.com/eventos/13o-festival-internacional-del-vino-de-san-luis-potosi-2/
CATEGORIES:Festival
END:VEVENT
BEGIN:VEVENT
DTSTART;TZID=America/Mexico_City:20250529T190000
DTEND;TZID=America/Mexico_City:20250529T190000
DTSTAMP:20260425T151702
CREATED:20251023T000214Z
LAST-MODIFIED:20251028T212609Z
UID:30307-1748545200-1748545200@soyvinicola.com
SUMMARY:El Arte de crear tu propio vino
DESCRIPTION:Descubre  la magia de diseñar tu vino. Mezcla de Aromas\, Sabores y crea tu propia etiqueta
URL:https://soyvinicola.com/eventos/el-arte-de-crear-tu-propio-vino-3/
CATEGORIES:Sesión Creativa
END:VEVENT
BEGIN:VEVENT
DTSTART;TZID=America/Mexico_City:20250524T183000
DTEND;TZID=America/Mexico_City:20250524T183000
DTSTAMP:20260425T151702
CREATED:20251023T000214Z
LAST-MODIFIED:20251028T213509Z
UID:30306-1748111400-1748111400@soyvinicola.com
SUMMARY:Tardes de Blues en el Viñedo
DESCRIPTION:El mejor plan para salir de la ciudad el fin de semana. Cena – Show con Alain Creek
URL:https://soyvinicola.com/eventos/tardes-de-blues-en-el-vinedo-3/
CATEGORIES:Cena-Show
END:VEVENT
BEGIN:VEVENT
DTSTART;TZID=America/Mexico_City:20250522T120000
DTEND;TZID=America/Mexico_City:20250522T120000
DTSTAMP:20260425T151702
CREATED:20251023T000159Z
LAST-MODIFIED:20251028T212810Z
UID:30305-1747915200-1747915200@soyvinicola.com
SUMMARY:Festival Internacional del Arte\, Queso y Vino
DESCRIPTION:Catas de vino con etiquetas de toda la región con más de 20 vinícolas presentes\, quesos artesanales y delicias gastronómicas de 10 queserías. Exposiciones de arte local y nacional. Música en vivo\, talleres y espectáculos. Experiencias sensoriales\, arte en vivo y más hasta el Junio.
URL:https://soyvinicola.com/eventos/festival-internacional-del-arte-queso-y-vino-3/
CATEGORIES:Festival
END:VEVENT
BEGIN:VEVENT
DTSTART;TZID=America/Mexico_City:20250517T130000
DTEND;TZID=America/Mexico_City:20250517T130000
DTSTAMP:20260425T151702
CREATED:20251023T000159Z
LAST-MODIFIED:20251028T214351Z
UID:30303-1747486800-1747486800@soyvinicola.com
SUMMARY:Wine Colors
DESCRIPTION:El vino\, la música y los colores ya están calentando motores. Preparate 17 y 18 de mayo.
URL:https://soyvinicola.com/eventos/wine-colors-2/
CATEGORIES:Festival
END:VEVENT
BEGIN:VEVENT
DTSTART;TZID=America/Mexico_City:20250517T130000
DTEND;TZID=America/Mexico_City:20250517T130000
DTSTAMP:20260425T151702
CREATED:20251023T000159Z
LAST-MODIFIED:20251028T213011Z
UID:30304-1747486800-1747486800@soyvinicola.com
SUMMARY:Festival Tinto Bajío
DESCRIPTION:Para brindar juntos por los grandes momentos con Música en vivo; más de 100 etiquetas de vino. Un sinfín gastronomico sin igual. Reserva para el 17 o 18 de mayo.
URL:https://soyvinicola.com/eventos/festival-tinto-bajio-2/
CATEGORIES:Festival
END:VEVENT
BEGIN:VEVENT
DTSTART;TZID=America/Mexico_City:20250503T130000
DTEND;TZID=America/Mexico_City:20250503T130000
DTSTAMP:20260425T151702
CREATED:20251027T233217Z
LAST-MODIFIED:20251028T213618Z
UID:30753-1746277200-1746277200@soyvinicola.com
SUMMARY:Vendimia Brava
DESCRIPTION:Vuelve a vivir una experiencia única como si estuvieras en las Ferias de España \, con un gran espectáculo de caballos de escuela española traído por @casalouceiro y grandes bailes de música española acompañados de @bailoora y @mariaaliagaabad rodeada de unos de los viñedos más bonitos del bajío mexicano en San Miguel de Allende \, Guanajuato .
URL:https://soyvinicola.com/eventos/vendimia-brava-4/
CATEGORIES:Vendimia
END:VEVENT
BEGIN:VEVENT
DTSTART;TZID=America/Mexico_City:20250420T100000
DTEND;TZID=America/Mexico_City:20250420T100000
DTSTAMP:20260425T151702
CREATED:20251027T233001Z
LAST-MODIFIED:20251028T212554Z
UID:30752-1745143200-1745143200@soyvinicola.com
SUMMARY:Busqueda de Huevitos de Pascua
DESCRIPTION:Trae a tu familia y disfruta de una jornada mágica entre viñedos\, donde los más pequeños podrán explorar los jardines en busca de coloridos huevitos de chocolate.
URL:https://soyvinicola.com/eventos/busqueda-de-huevitos-de-pascua-3/
CATEGORIES:Evento del Viñedo
END:VEVENT
BEGIN:VEVENT
DTSTART;TZID=America/Mexico_City:20250419T130000
DTEND;TZID=America/Mexico_City:20250419T130000
DTSTAMP:20260425T151702
CREATED:20251023T000159Z
LAST-MODIFIED:20251028T212809Z
UID:30301-1745067600-1745067600@soyvinicola.com
SUMMARY:Festival de Espuma y Vino
DESCRIPTION:Disfruta en familia del Festival de Espuma: Musica\, DJ\, Gastronomia y mucha diversión!
URL:https://soyvinicola.com/eventos/festival-de-espuma-y-vino-2/
CATEGORIES:Festival
END:VEVENT
BEGIN:VEVENT
DTSTART;TZID=America/Mexico_City:20250413T140000
DTEND;TZID=America/Mexico_City:20250413T140000
DTSTAMP:20260425T151702
CREATED:20251023T000144Z
LAST-MODIFIED:20251028T214551Z
UID:30299-1744552800-1744552800@soyvinicola.com
SUMMARY:XXV Festival de las Conchas y el Vino Nuevo
DESCRIPTION:Reúne a 84 vinícolas de los valles de Baja California con degustación de +160 etiquetas de vinos de reciente lanzamiento en el mercado (blancos\, rosados\, espumosos\, Pét Nats y tintos jóvenes).
URL:https://soyvinicola.com/eventos/xxv-festival-de-las-conchas-y-el-vino-nuevo-3/
CATEGORIES:Encuentro Enológico
END:VEVENT
BEGIN:VEVENT
DTSTART;TZID=America/Mexico_City:20250412T120000
DTEND;TZID=America/Mexico_City:20250412T120000
DTSTAMP:20260425T151702
CREATED:20251028T201321Z
LAST-MODIFIED:20251028T214551Z
UID:30821-1744459200-1744459200@soyvinicola.com
SUMMARY:XXV Festival de las Conchas y el Vino Nuevo
DESCRIPTION:Esta vigésima cuarta edición  reúne a 84 vinícolas de los valles de Baja California con degustación de +160 etiquetas de vinos de reciente lanzamiento en el mercado (blancos\, rosados\, espumosos\, Pét Nats y tintos jóvenes).
URL:https://soyvinicola.com/eventos/xxv-festival-de-las-conchas-y-el-vino-nuevo-5/
CATEGORIES:Festival
END:VEVENT
BEGIN:VEVENT
DTSTART;TZID=America/Mexico_City:20250411T130000
DTEND;TZID=America/Mexico_City:20250411T130000
DTSTAMP:20260425T151702
CREATED:20251028T201321Z
LAST-MODIFIED:20251028T213509Z
UID:30820-1744376400-1744376400@soyvinicola.com
SUMMARY:V Mesas Marinas
DESCRIPTION:Una experiencia exclusiva frente al mar con 15 meseas de 20 comensales\, atendidas exclusivamente por un vitininicultor\, un productor de conchas y un chef anfitrion\, platicando sobre experiencias enogastronómicas
URL:https://soyvinicola.com/eventos/v-mesas-marinas-2/
CATEGORIES:Degustación en Maridaje en 4 tiempos
END:VEVENT
BEGIN:VEVENT
DTSTART;TZID=America/Mexico_City:20250411T100000
DTEND;TZID=America/Mexico_City:20250411T100000
DTSTAMP:20260425T151702
CREATED:20251028T201321Z
LAST-MODIFIED:20251028T213212Z
UID:30819-1744365600-1744365600@soyvinicola.com
SUMMARY:IX Salón del Vino
DESCRIPTION:Una experiencia exclusiva para profesionales del vino bajo un encuentro de negocios en modalidad B2B con el sector vitivinícola de Baja California. Un acercamiento directo con productores/enólogos.
URL:https://soyvinicola.com/eventos/ix-salon-del-vino-3/
CATEGORIES:Encuentro. Solo por invitacion
END:VEVENT
BEGIN:VEVENT
DTSTART;TZID=America/Mexico_City:20250329T140000
DTEND;TZID=America/Mexico_City:20250329T140000
DTSTAMP:20260425T151702
CREATED:20251027T232920Z
LAST-MODIFIED:20251028T212407Z
UID:30750-1743256800-1743256800@soyvinicola.com
SUMMARY:Bubba Fest
DESCRIPTION:Viñedos Freixenet\, celebra un evento con enfoque en las bebidas espumosas. Aparta el 29 y 30 de Marzo
URL:https://soyvinicola.com/eventos/bubba-fest-2/
CATEGORIES:Evento
END:VEVENT
BEGIN:VEVENT
DTSTART;TZID=America/Mexico_City:20250329T130000
DTEND;TZID=America/Mexico_City:20250329T130000
DTSTAMP:20260425T151702
CREATED:20251023T000129Z
LAST-MODIFIED:20251028T212810Z
UID:30295-1743253200-1743253200@soyvinicola.com
SUMMARY:Festival Mezcal\, Queso y Vino
DESCRIPTION:Un evento en el que encontrarás una amplia oferta gastronómica y vitivinícola\, todo acompañado de buena música en vivo. Aparta la fecha 29 7 30 de marzo.
URL:https://soyvinicola.com/eventos/festival-mezcal-queso-y-vino-2/
CATEGORIES:Festival
END:VEVENT
BEGIN:VEVENT
DTSTART;TZID=America/Mexico_City:20250315T140000
DTEND;TZID=America/Mexico_City:20250315T140000
DTSTAMP:20260425T151702
CREATED:20251023T000129Z
LAST-MODIFIED:20251028T212810Z
UID:30294-1742047200-1742047200@soyvinicola.com
SUMMARY:Festival del Vino Mexicano
DESCRIPTION:Casas Vinicolas\, maridajes\, gourmet\, entre otras muchas actividades se reunen en Torreon\, Coahuila
URL:https://soyvinicola.com/eventos/festival-del-vino-mexicano-2/
CATEGORIES:Festival
END:VEVENT
BEGIN:VEVENT
DTSTART;TZID=America/Mexico_City:20250314T120000
DTEND;TZID=America/Mexico_City:20250314T120000
DTSTAMP:20260425T151702
CREATED:20251023T000129Z
LAST-MODIFIED:20251028T213948Z
UID:30293-1741953600-1741953600@soyvinicola.com
SUMMARY:Vinoma Fest
DESCRIPTION:Un viaje sensorial que une el mar y la gastronomía. Más de 20 prestigiosas bodegas nacionales e internacionales presentarán sus etiquetas más destacadas. Chefs reconocidos llevaran a cabo diversos maridajes y menus para los asistentes. 14 y 15 de marzo.
URL:https://soyvinicola.com/eventos/vinoma-fest-2/
CATEGORIES:Festival
END:VEVENT
BEGIN:VEVENT
DTSTART;TZID=America/Mexico_City:20250228T193000
DTEND;TZID=America/Mexico_City:20250228T193000
DTSTAMP:20260425T151702
CREATED:20251023T000129Z
LAST-MODIFIED:20251028T212809Z
UID:30292-1740771000-1740771000@soyvinicola.com
SUMMARY:Experiencia Sensorial
DESCRIPTION:Una invitación a a vivir un brindis único: tres tapas gourmet maridadas con nuestros mejores vinos\, en un ambiente envolvente de aromas\, música y texturas que te harán vivir una experiencia completa.
URL:https://soyvinicola.com/eventos/experiencia-sensorial-2/
CATEGORIES:Cena
END:VEVENT
BEGIN:VEVENT
DTSTART;TZID=America/Mexico_City:20250226T193000
DTEND;TZID=America/Mexico_City:20250226T193000
DTSTAMP:20260425T151702
CREATED:20251023T000128Z
LAST-MODIFIED:20251028T212608Z
UID:30291-1740598200-1740598200@soyvinicola.com
SUMMARY:Descubriendo el Vino
DESCRIPTION:Tu oportunidad perfecta para empezar a conocer el mundo del vino\, sin complicaciones ni estrés. ¡No importa si no sabes nada de vino!
URL:https://soyvinicola.com/eventos/descubriendo-el-vino-2/
CATEGORIES:Cata de 4 vinos para novatos
END:VEVENT
BEGIN:VEVENT
DTSTART;TZID=America/Mexico_City:20250220T200000
DTEND;TZID=America/Mexico_City:20250220T200000
DTSTAMP:20260425T151702
CREATED:20251023T000128Z
LAST-MODIFIED:20251028T212554Z
UID:30290-1740081600-1740081600@soyvinicola.com
SUMMARY:Cata de Vinos en La Castellana
DESCRIPTION:Déjate sorprender por el carácter y la expresión de vinos únicos. Se parte de una experiencia sensorial con maridaje incluido. ¡Reserva tu lugar y vive el mundo del vino!
URL:https://soyvinicola.com/eventos/cata-de-vinos-en-la-castellana-2/
CATEGORIES:Cata y Maridaje
END:VEVENT
BEGIN:VEVENT
DTSTART;TZID=America/Mexico_City:20250220T120000
DTEND;TZID=America/Mexico_City:20250220T120000
DTSTAMP:20260425T151702
CREATED:20251023T000127Z
LAST-MODIFIED:20251028T213454Z
UID:30289-1740052800-1740052800@soyvinicola.com
SUMMARY:Recorridos Guiados por  Bodega\, Viñedo y Cava
DESCRIPTION:Si buscas algo diferente\, descubre una gran experiencia en uno de los viñedos más emblemáticos de San Luis Potosí. Visitas todo el año.
URL:https://soyvinicola.com/eventos/recorridos-guiados-por-bodega-vinedo-y-cava-2/
CATEGORIES:Recorridos
END:VEVENT
BEGIN:VEVENT
DTSTART;TZID=America/Mexico_City:20250215T130000
DTEND;TZID=America/Mexico_City:20250215T130000
DTSTAMP:20260425T151702
CREATED:20251023T000127Z
LAST-MODIFIED:20251028T213211Z
UID:30288-1739624400-1739624400@soyvinicola.com
SUMMARY:Guanajuato Tour del Vino
DESCRIPTION:Vive una experiencia única recorriendo los viñedos de Guanajuato. Ofreciendo recorridos por sus viñas\, catas de vino artesanal y una conexión única con la tradición vitivinícola de la región. Disfruta tambien el 16 de febrero
URL:https://soyvinicola.com/eventos/guanajuato-tour-del-vino-2/
CATEGORIES:Viaje | Tour
END:VEVENT
BEGIN:VEVENT
DTSTART;TZID=America/Mexico_City:20250214T200000
DTEND;TZID=America/Mexico_City:20250214T200000
DTSTAMP:20260425T151702
CREATED:20251023T000127Z
LAST-MODIFIED:20251028T213618Z
UID:30287-1739563200-1739563200@soyvinicola.com
SUMMARY:Valentine
DESCRIPTION:El viñedo está listo  para sorprenderte con un menú especial del 14 al 16 de febrero\, dejate envolver por los sabores de la región y comparte un trago especial que enamorara tus sentidos: Haz tu reservación para los dias 14 -16 de febrero.
URL:https://soyvinicola.com/eventos/valentine-2/
CATEGORIES:Cena
END:VEVENT
BEGIN:VEVENT
DTSTART;TZID=America/Mexico_City:20250214T200000
DTEND;TZID=America/Mexico_City:20250214T200000
DTSTAMP:20260425T151702
CREATED:20251023T000126Z
LAST-MODIFIED:20251028T212407Z
UID:30286-1739563200-1739563200@soyvinicola.com
SUMMARY:Amor entre viñedos
DESCRIPTION:Disfruta de una cena romantica de 4 tiempos con música en vivo el 14 y 15 de Febrero
URL:https://soyvinicola.com/eventos/amor-entre-vinedos-2/
CATEGORIES:Cena
END:VEVENT
BEGIN:VEVENT
DTSTART;TZID=America/Mexico_City:20250214T190000
DTEND;TZID=America/Mexico_City:20250214T190000
DTSTAMP:20260425T151702
CREATED:20251023T000126Z
LAST-MODIFIED:20251028T212349Z
UID:30285-1739559600-1739559600@soyvinicola.com
SUMMARY:14 de Febrero en el Viñedo
DESCRIPTION:El Viñedo con el mejor plan para el dia del Amor y la Amistad
URL:https://soyvinicola.com/eventos/14-de-febrero-en-el-vinedo-2/
CATEGORIES:Celebración
END:VEVENT
BEGIN:VEVENT
DTSTART;TZID=America/Mexico_City:20250208T130000
DTEND;TZID=America/Mexico_City:20250208T130000
DTSTAMP:20260425T151702
CREATED:20251028T201249Z
LAST-MODIFIED:20251028T213748Z
UID:30817-1739019600-1739019600@soyvinicola.com
SUMMARY:VidForum
DESCRIPTION:Si eres amante del vino\, este es tu momento para asegurar tu lugar en la 5ta edición de la feria más esperada en la Ribera de Chapala\, el 8 y 9 de Febrero
URL:https://soyvinicola.com/eventos/vidforum-3/
CATEGORIES:Feria del Vino
END:VEVENT
BEGIN:VEVENT
DTSTART;TZID=America/Mexico_City:20250122T190000
DTEND;TZID=America/Mexico_City:20250122T190000
DTSTAMP:20260425T151702
CREATED:20251027T232902Z
LAST-MODIFIED:20251028T212407Z
UID:30749-1737572400-1737572400@soyvinicola.com
SUMMARY:6a. Edición Banorte Nacion de Vinos
DESCRIPTION:El evento del vino mexicano y gastronómico mas importante que agrupa a la mayor parte de las vinícolas de México. Dos día 22 y 23 de Enero para disfrutar.
URL:https://soyvinicola.com/eventos/6a-edicion-banorte-nacion-de-vinos-3/
CATEGORIES:Expo
END:VEVENT
BEGIN:VEVENT
DTSTART;TZID=America/Mexico_City:20250118T193000
DTEND;TZID=America/Mexico_City:20250118T193000
DTSTAMP:20260425T151702
CREATED:20251023T000125Z
LAST-MODIFIED:20251028T213244Z
UID:30282-1737228600-1737228600@soyvinicola.com
SUMMARY:Leyendo Estrellas
DESCRIPTION:Prepárate para una noche mágica donde leeremos las estrellas para el 2025 junto a Zaira García. Se llevará a cabo una platica y observación de estrellas. Disfruta de una tabla de quesos\, la ensalada del viñedo\, una rica lasaña y un delicioso brownie. Reserva por WhatsApp: (442) 376 5140
URL:https://soyvinicola.com/eventos/leyendo-estrellas-2/
CATEGORIES:Noche Mágica
END:VEVENT
END:VCALENDAR