BEGIN:VCALENDAR
VERSION:2.0
PRODID:-//Soy Vinícola - ECPv6.15.16//NONSGML v1.0//EN
CALSCALE:GREGORIAN
METHOD:PUBLISH
X-ORIGINAL-URL:https://soyvinicola.com
X-WR-CALDESC:Eventos para Soy Vinícola
REFRESH-INTERVAL;VALUE=DURATION:PT1H
X-Robots-Tag:noindex
X-PUBLISHED-TTL:PT1H
BEGIN:VTIMEZONE
TZID:America/Mexico_City
BEGIN:STANDARD
TZOFFSETFROM:-0600
TZOFFSETTO:-0600
TZNAME:CST
DTSTART:20240101T000000
END:STANDARD
END:VTIMEZONE
BEGIN:VEVENT
DTSTART;TZID=America/Mexico_City:20250908T120000
DTEND;TZID=America/Mexico_City:20250908T120000
DTSTAMP:20260425T110156
CREATED:20251023T000329Z
LAST-MODIFIED:20251028T213948Z
UID:30331-1757332800-1757332800@soyvinicola.com
SUMMARY:Vinicola Santa Elena
DESCRIPTION:Vive el alma del vino desde la tierra hasta la copa: recorre el viñedo\, conoce productores\, y termina el día con una noche inolvidable de música\, velas y emociones en CandleWine. Una experiencia para todos los sentidos. Reserva tu lugar y sé parte de esta alquimia sensorial.
URL:https://soyvinicola.com/eventos/vinicola-santa-elena-2/
CATEGORIES:Vendimia
END:VEVENT
BEGIN:VEVENT
DTSTART;TZID=America/Mexico_City:20250908T120000
DTEND;TZID=America/Mexico_City:20250908T120000
DTSTAMP:20260425T110156
CREATED:20251023T000314Z
LAST-MODIFIED:20251028T213439Z
UID:30330-1757332800-1757332800@soyvinicola.com
SUMMARY:Parras del Altiplano
DESCRIPTION:Ven y disfruta de una vendimia fuera de lo común. Aquí te dejamos la info: Costo de acceso: $900.00 por personas; Lugar: Hotel Real Hacienda Copalillos. Vestimenta: De blanco
URL:https://soyvinicola.com/eventos/parras-del-altiplano-2/
CATEGORIES:Vendimia
END:VEVENT
BEGIN:VEVENT
DTSTART;TZID=America/Mexico_City:20250908T110000
DTEND;TZID=America/Mexico_City:20250908T110000
DTSTAMP:20260425T110156
CREATED:20251027T222437Z
LAST-MODIFIED:20251028T212351Z
UID:30439-1757329200-1757329200@soyvinicola.com
SUMMARY:4a. Fiesta del Vino en Dolores Hidalgo
DESCRIPTION:Un evento que celebra la cultura\, la gastronomía y el desarrollo turístico en torno a los viñedos de la región. Consulta 9 y 10 de Agosto
URL:https://soyvinicola.com/eventos/4a-fiesta-del-vino-en-dolores-hidalgo-2/
CATEGORIES:Expo
END:VEVENT
BEGIN:VEVENT
DTSTART;TZID=America/Mexico_City:20250906T130000
DTEND;TZID=America/Mexico_City:20250906T130000
DTSTAMP:20260425T110156
CREATED:20251028T212349Z
LAST-MODIFIED:20251028T212349Z
UID:30882-1757163600-1757163600@soyvinicola.com
SUMMARY:San José Lavista (San Miguel de Allende)
DESCRIPTION:Celebra entre vino\, tradición y música en vivo con Mariana Seoane. Asegura tu lugar hoy mismo y vive una experiencia
URL:https://soyvinicola.com/eventos/san-jose-lavista-san-miguel-de-allende-12/
CATEGORIES:Vendimia
END:VEVENT
BEGIN:VEVENT
DTSTART;TZID=America/Mexico_City:20250906T120000
DTEND;TZID=America/Mexico_City:20250906T120000
DTSTAMP:20260425T110156
CREATED:20251028T201537Z
LAST-MODIFIED:20251028T213648Z
UID:30830-1757160000-1757160000@soyvinicola.com
SUMMARY:Vendimia Tierra de Luz (León)
DESCRIPTION:En honor a una de las mujeres más emblemáticas de nuestra historia. La Malinche.Compra tus boletos en línea: https://tierradeluzhaciendavinicola.rezdy.com/718294/vendimia-malinche. Con un pabellón gastronómico estará donde habrá Cortes asados\, boutique de chocolates\, ¡y mucho más!
URL:https://soyvinicola.com/eventos/vendimia-tierra-de-luz-leon-3/
CATEGORIES:Vendinia
END:VEVENT
BEGIN:VEVENT
DTSTART;TZID=America/Mexico_City:20250830T120000
DTEND;TZID=America/Mexico_City:20250830T120000
DTSTAMP:20260425T110156
CREATED:20251028T212349Z
LAST-MODIFIED:20251028T212349Z
UID:30883-1756555200-1756555200@soyvinicola.com
SUMMARY:Vendimia Cava 57
DESCRIPTION:Vive la X Vendimia de Cava 57: una edición especial para brindar por el pasado\, el presente y todo lo que está por venir. Corte y pisado de uvas\, música en vivo\, DJ\, actividades para toda la familia\, vino\, gastronomía. Venta de Boletos en www.opentable.com
URL:https://soyvinicola.com/eventos/vendimia-cava-57-13/
CATEGORIES:Vendimia
END:VEVENT
BEGIN:VEVENT
DTSTART;TZID=America/Mexico_City:20250830T120000
DTEND;TZID=America/Mexico_City:20250830T120000
DTSTAMP:20260425T110156
CREATED:20251023T000359Z
LAST-MODIFIED:20251028T213011Z
UID:30337-1756555200-1756555200@soyvinicola.com
SUMMARY:Fronda Vinicola\, Villa de Reyes
DESCRIPTION:Te van a recibir con un cóctel y un bocadillo de cortesía\, Y luego… déjate llevar por una experiencia gastronómica en vivo a un gran costo\, desde $180.00 a $220.00 por platillo que incluye 5 chefs\, estaciones vivo\, cocina mexicana\, paella y mucho más. Tus boletos en: 444 447 4013.
URL:https://soyvinicola.com/eventos/fronda-vinicola-villa-de-reyes-2/
CATEGORIES:Vendimia
END:VEVENT
BEGIN:VEVENT
DTSTART;TZID=America/Mexico_City:20250829T120000
DTEND;TZID=America/Mexico_City:20250829T120000
DTSTAMP:20260425T110156
CREATED:20251023T000359Z
LAST-MODIFIED:20251028T214150Z
UID:30336-1756468800-1756468800@soyvinicola.com
SUMMARY:Viñedos Iberia
DESCRIPTION:Bendicion de la Cosecha\, pisado de uvas\, recorridos\, experiencias y mucho mas. 29 y 30 de Agosto
URL:https://soyvinicola.com/eventos/vinedos-iberia-2/
CATEGORIES:Vendimia
END:VEVENT
BEGIN:VEVENT
DTSTART;TZID=America/Mexico_City:20250823T210000
DTEND;TZID=America/Mexico_City:20250823T210000
DTSTAMP:20260425T110156
CREATED:20251027T233247Z
LAST-MODIFIED:20251028T213011Z
UID:30759-1755982800-1755982800@soyvinicola.com
SUMMARY:Festival Vendimia Parvada
DESCRIPTION:Vive el festival Vendimia 2025 junto al Grupo Intocable. Boletos a la venta a partir del 30 de mayo por Arema Ticket.
URL:https://soyvinicola.com/eventos/festival-vendimia-parvada-2/
CATEGORIES:Festival | Vendimia
END:VEVENT
BEGIN:VEVENT
DTSTART;TZID=America/Mexico_City:20250823T120000
DTEND;TZID=America/Mexico_City:20250823T120000
DTSTAMP:20260425T110156
CREATED:20251023T000359Z
LAST-MODIFIED:20251028T214150Z
UID:30335-1755950400-1755950400@soyvinicola.com
SUMMARY:Viñedos San Bernardino (Dolores Hidalgo)
DESCRIPTION:Ritual prehispánico de bendición de la cosecha; Música en vivo; Gastronomía local y tradicional. Pabellón artesanal con productores invitados. Degustación de las etiquetas del viñedo.
URL:https://soyvinicola.com/eventos/vinedos-san-bernardino-dolores-hidalgo-2/
CATEGORIES:Vendimia
END:VEVENT
BEGIN:VEVENT
DTSTART;TZID=America/Mexico_City:20250823T110000
DTEND;TZID=America/Mexico_City:20250823T110000
DTSTAMP:20260425T110156
CREATED:20251027T233301Z
LAST-MODIFIED:20251028T212407Z
UID:30760-1755946800-1755946800@soyvinicola.com
SUMMARY:Bodegas Origen
DESCRIPTION:Recorridos guiados\, comida de campo\, paisajes inolvidables y claro\, vino. Reserva tu visita y sé parte de la Ruta del Vino 2025 | 449 583 9635
URL:https://soyvinicola.com/eventos/bodegas-origen-2/
CATEGORIES:Recorridos
END:VEVENT
BEGIN:VEVENT
DTSTART;TZID=America/Mexico_City:20250816T200000
DTEND;TZID=America/Mexico_City:20250816T200000
DTSTAMP:20260425T110156
CREATED:20251023T000344Z
LAST-MODIFIED:20251028T213439Z
UID:30334-1755374400-1755374400@soyvinicola.com
SUMMARY:Marques de Aguayo
DESCRIPTION:Ven a vivir una experiencia única para disfrutar\, compartir y recordar. Tu boleto incluye: Cena @lulucocinayvinoparras; Tradicional pisado de uvasConcierto de Pablo Montero!! R Reserva al teléfono 842 422 6698 | https://boletea.com.mx
URL:https://soyvinicola.com/eventos/marques-de-aguayo-2/
CATEGORIES:Vendimia | Cena Show
END:VEVENT
BEGIN:VEVENT
DTSTART;TZID=America/Mexico_City:20250816T140000
DTEND;TZID=America/Mexico_City:20250816T140000
DTSTAMP:20260425T110156
CREATED:20251027T233246Z
LAST-MODIFIED:20251028T213618Z
UID:30758-1755352800-1755352800@soyvinicola.com
SUMMARY:Vendimia Casa Leal
DESCRIPTION:Gastronomía\, pisa de uvas\, catas\, recorridos\, música en vivo y mucho más.
URL:https://soyvinicola.com/eventos/vendimia-casa-leal-2/
CATEGORIES:Vendimia
END:VEVENT
BEGIN:VEVENT
DTSTART;TZID=America/Mexico_City:20250816T140000
DTEND;TZID=America/Mexico_City:20250816T140000
DTSTAMP:20260425T110156
CREATED:20251023T000344Z
LAST-MODIFIED:20251028T213748Z
UID:30333-1755352800-1755352800@soyvinicola.com
SUMMARY:Vendimia Vinicola El Aguaje
DESCRIPTION:Música en vivo\, cocina a la leña de la mano del Chef Jesús Delgado\, catas guiadas\, recorridos entre viñedos y momentos únicos en un entorno natural incomparable. Disfruta 16 y 17 de Agosto
URL:https://soyvinicola.com/eventos/vendimia-vinicola-el-aguaje-3/
CATEGORIES:Vendimia
END:VEVENT
BEGIN:VEVENT
DTSTART;TZID=America/Mexico_City:20250816T140000
DTEND;TZID=America/Mexico_City:20250816T140000
DTSTAMP:20260425T110156
CREATED:20251023T000344Z
LAST-MODIFIED:20251028T213648Z
UID:30332-1755352800-1755352800@soyvinicola.com
SUMMARY:Vendimia Tierra de Alonso
DESCRIPTION:Festejemos juntos en un ambiente lleno de música\, talleres\, gastronomía\, bazar\, vino ¡y más! Una celebración para todos los sentidos en Bernal. ¡No te pierdas del Concierto a las 6:30 ¡PM con Pink Cadillac\, tocando Rock! | Entradas vía WA: 442 119 8268.
URL:https://soyvinicola.com/eventos/vendimia-tierra-de-alonso-2/
CATEGORIES:Vendimia + Rock
END:VEVENT
BEGIN:VEVENT
DTSTART;TZID=America/Mexico_City:20250815T100000
DTEND;TZID=America/Mexico_City:20250815T100000
DTSTAMP:20260425T110156
CREATED:20251027T233232Z
LAST-MODIFIED:20251028T212351Z
UID:30757-1755252000-1755252000@soyvinicola.com
SUMMARY:3er. Festival de la Vendimnia Universitaria\, San Miguel de Allende
DESCRIPTION:San Miguel de Allende también se suma a la temporada de vendimias con una experiencia educativa y sensorial única.
URL:https://soyvinicola.com/eventos/3er-festival-de-la-vendimnia-universitaria-san-miguel-de-allende-2/
CATEGORIES:Conferencias
END:VEVENT
BEGIN:VEVENT
DTSTART;TZID=America/Mexico_City:20250808T140000
DTEND;TZID=America/Mexico_City:20250808T140000
DTSTAMP:20260425T110156
CREATED:20251023T000314Z
LAST-MODIFIED:20251028T213454Z
UID:30329-1754661600-1754661600@soyvinicola.com
SUMMARY:Segovia Fuantos
DESCRIPTION:Una celebración para expresar su agradecimiento a su comunidad\, clientes y amigos por el apoyo brindado a nuestra bodega este año. Grandes experiencias.
URL:https://soyvinicola.com/eventos/segovia-fuantos-2/
CATEGORIES:Vendimia
END:VEVENT
BEGIN:VEVENT
DTSTART;TZID=America/Mexico_City:20250808T130000
DTEND;TZID=America/Mexico_City:20250808T130000
DTSTAMP:20260425T110156
CREATED:20251023T000314Z
LAST-MODIFIED:20251028T213649Z
UID:30328-1754658000-1754658000@soyvinicola.com
SUMMARY:Vendimia Tierra Tinta
DESCRIPTION:No dejes pasar una experiencia entre viñedos que lo tiene todo: Paisajes únicos;  Degustación de vinos; Música en vivo con Cuatroxcuatromusica  y Flamencogypsy.
URL:https://soyvinicola.com/eventos/vendimia-tierra-tinta-2/
CATEGORIES:Vendimia
END:VEVENT
BEGIN:VEVENT
DTSTART;TZID=America/Mexico_City:20250802T120000
DTEND;TZID=America/Mexico_City:20250802T120000
DTSTAMP:20260425T110156
CREATED:20251028T201451Z
LAST-MODIFIED:20251028T213618Z
UID:30827-1754136000-1754136000@soyvinicola.com
SUMMARY:Vendimia Casa Blanca en Jalisco
DESCRIPTION:¡Prepárate para disfrutar de la Vendimia 2025 con vinos exquisitos\, buena comida\, música en vivo y diversión sin fin!
URL:https://soyvinicola.com/eventos/vendimia-casa-blanca-en-jalisco-3/
CATEGORIES:Vendimia
END:VEVENT
BEGIN:VEVENT
DTSTART;TZID=America/Mexico_City:20250802T120000
DTEND;TZID=America/Mexico_City:20250802T120000
DTSTAMP:20260425T110156
CREATED:20251028T201451Z
LAST-MODIFIED:20251028T213633Z
UID:30828-1754136000-1754136000@soyvinicola.com
SUMMARY:Vendimia Hacienda de Letras
DESCRIPTION:Vive la única experiencia de su tipo en Aguascalientes. Una tradición llena de música\, sabor y diversión que no encontrarás en ningún otro lugar. Disfruta de Mega pisa de uvas; Catas y Recorridos\, Grupo Versátil. Info: 449 279 5020 | 449 224 5859
URL:https://soyvinicola.com/eventos/vendimia-hacienda-de-letras-3/
CATEGORIES:Vendimia
END:VEVENT
BEGIN:VEVENT
DTSTART;TZID=America/Mexico_City:20250802T120000
DTEND;TZID=America/Mexico_City:20250802T120000
DTSTAMP:20260425T110156
CREATED:20251028T201436Z
LAST-MODIFIED:20251028T213633Z
UID:30826-1754136000-1754136000@soyvinicola.com
SUMMARY:Vendimia Hacienda del Marqués
DESCRIPTION:Ven y Disfruta del DJ en vivo todo el día; presentación especial del grupo de country Los Zappes; catas guiadas\, recorridos por el viñedo\, actividades para niños\, pisado de la uvas\, show de pirotecnia\, rifas\, premio y mucho mas.
URL:https://soyvinicola.com/eventos/vendimia-hacienda-del-marques-3/
CATEGORIES:Vendimia
END:VEVENT
BEGIN:VEVENT
DTSTART;TZID=America/Mexico_City:20250801T190000
DTEND;TZID=America/Mexico_City:20250801T190000
DTSTAMP:20260425T110156
CREATED:20251028T201436Z
LAST-MODIFIED:20251028T214552Z
UID:30825-1754074800-1754074800@soyvinicola.com
SUMMARY:XXXV MUESTRA DEL VINO
DESCRIPTION:El evento que dio origen a las tradicionales Fiestas de la Vendimia y que representa el epicentro de la cultura del vino mexicano. +160 etiquetas de vino distribuidas en barras por variedad de uva\, no por vinícola.
URL:https://soyvinicola.com/eventos/xxxv-muestra-del-vino-3/
CATEGORIES:Expo
END:VEVENT
BEGIN:VEVENT
DTSTART;TZID=America/Mexico_City:20250731T130000
DTEND;TZID=America/Mexico_City:20250731T130000
DTSTAMP:20260425T110156
CREATED:20251023T000259Z
LAST-MODIFIED:20251028T213633Z
UID:30323-1753966800-1753966800@soyvinicola.com
SUMMARY:Vendimia Puertas de la Peña
DESCRIPTION:Festejemos juntos en un ambiente lleno de música\, talleres\, gastronomía\, bazar\, vino ¡y más! Una celebración para todos los sentidos en Bernal. No te pierdas del Concierto a las 6:30 PM | Entradas vía WA: 442 119 8268
URL:https://soyvinicola.com/eventos/vendimia-puertas-de-la-pena-2/
CATEGORIES:Vendimia
END:VEVENT
BEGIN:VEVENT
DTSTART;TZID=America/Mexico_City:20250730T120000
DTEND;TZID=America/Mexico_City:20250730T120000
DTSTAMP:20260425T110156
CREATED:20251023T000259Z
LAST-MODIFIED:20251028T213212Z
UID:30322-1753876800-1753876800@soyvinicola.com
SUMMARY:Inauguración XXXV Fiestas de la Vendimia
DESCRIPTION:Un evento que celebra la inauguración oficial de las  Vendimias de Baja California con degustaciones de etiquetas de vinos premium y muestras gastronómicas de reconocidos restaurantes de Ensenada y del Valle de Guadalupe.
URL:https://soyvinicola.com/eventos/inauguracion-xxxv-fiestas-de-la-vendimia-2/
CATEGORIES:Evento con Maridajes y Degustaciones
END:VEVENT
BEGIN:VEVENT
DTSTART;TZID=America/Mexico_City:20250726T130000
DTEND;TZID=America/Mexico_City:20250726T130000
DTSTAMP:20260425T110156
CREATED:20251023T000259Z
LAST-MODIFIED:20251028T213633Z
UID:30321-1753534800-1753534800@soyvinicola.com
SUMMARY:Vendimia Rancho Entre Olivos
DESCRIPTION:¡Las Vendimias llegaron al Rancho Entre Olivos! Te espera con: Catas de vino; Cerveza artesanal Ágata; Restaurante I Pork You; Música en vivo; Viñedos y olivares; Pet friendly! La entrada es gratuita. 26 y 27 de julio.
URL:https://soyvinicola.com/eventos/vendimia-rancho-entre-olivos-2/
CATEGORIES:Vendimia
END:VEVENT
BEGIN:VEVENT
DTSTART;TZID=America/Mexico_City:20250726T130000
DTEND;TZID=America/Mexico_City:20250726T130000
DTSTAMP:20260425T110156
CREATED:20251023T000244Z
LAST-MODIFIED:20251028T213748Z
UID:30320-1753534800-1753534800@soyvinicola.com
SUMMARY:Vendimia Vinicola El Secreto
DESCRIPTION:Celebra con una fiesta única entre viñedos\, disfrutando de: Concurso de paellas\, Música en vivo con flamenco y tablao\, Recorridos por los viñedos y pisa de uvas; Catas y gastronomía y de su cierre. Aparta 26 y 27 de Julio
URL:https://soyvinicola.com/eventos/vendimia-vinicola-el-secreto-3/
CATEGORIES:Vendimia y Cena entre Viñedos
END:VEVENT
BEGIN:VEVENT
DTSTART;TZID=America/Mexico_City:20250726T120000
DTEND;TZID=America/Mexico_City:20250726T120000
DTSTAMP:20260425T110156
CREATED:20251023T000244Z
LAST-MODIFIED:20251028T213748Z
UID:30319-1753531200-1753531200@soyvinicola.com
SUMMARY:Vendimia Viñedo Los Rosales
DESCRIPTION:Se parte de la Vendimia donde todo cobra sentido. El tradicional pisado de uvas y las presentaciones de La Sonora Dinamita\, Cadetes Nueva Generación\, Cuidado con el Perro y DJ.
URL:https://soyvinicola.com/eventos/vendimia-vinedo-los-rosales-2/
CATEGORIES:Vendimia
END:VEVENT
BEGIN:VEVENT
DTSTART;TZID=America/Mexico_City:20250720T130000
DTEND;TZID=America/Mexico_City:20250720T130000
DTSTAMP:20260425T110156
CREATED:20251023T000244Z
LAST-MODIFIED:20251028T213618Z
UID:30317-1753016400-1753016400@soyvinicola.com
SUMMARY:Vendimia Casa Quesada
DESCRIPTION:De la tierra a la copa\, así nacen este evento para disfrutar en familia
URL:https://soyvinicola.com/eventos/vendimia-casa-quesada-2/
CATEGORIES:Vendimia
END:VEVENT
BEGIN:VEVENT
DTSTART;TZID=America/Mexico_City:20250720T120000
DTEND;TZID=America/Mexico_City:20250720T120000
DTSTAMP:20260425T110156
CREATED:20251023T000244Z
LAST-MODIFIED:20251028T213244Z
UID:30318-1753012800-1753012800@soyvinicola.com
SUMMARY:La Malanca
DESCRIPTION:¡Tu escapada de vino\, alegría y tradición comienza aquí en San Luis Potosi
URL:https://soyvinicola.com/eventos/la-malanca-2/
CATEGORIES:Vendimia
END:VEVENT
BEGIN:VEVENT
DTSTART;TZID=America/Mexico_City:20250719T130000
DTEND;TZID=America/Mexico_City:20250719T130000
DTSTAMP:20260425T110156
CREATED:20251023T000244Z
LAST-MODIFIED:20251028T213633Z
UID:30316-1752930000-1752930000@soyvinicola.com
SUMMARY:Vendimia Praon de María
DESCRIPTION:Este viñedo se une a la celebración de Las Vendimias Aguascalientes 2025\, un evento lleno de música\, vino\, paisajes y emociones que marcan el corazón del viñedo. Informes y reservas: 55 4279 1771
URL:https://soyvinicola.com/eventos/vendimia-praon-de-maria-2/
CATEGORIES:Vendimia
END:VEVENT
END:VCALENDAR