BEGIN:VCALENDAR
VERSION:2.0
PRODID:-//Soy Vinícola - ECPv6.15.16//NONSGML v1.0//EN
CALSCALE:GREGORIAN
METHOD:PUBLISH
X-ORIGINAL-URL:https://soyvinicola.com
X-WR-CALDESC:Eventos para Soy Vinícola
REFRESH-INTERVAL;VALUE=DURATION:PT1H
X-Robots-Tag:noindex
X-PUBLISHED-TTL:PT1H
BEGIN:VTIMEZONE
TZID:America/Mexico_City
BEGIN:STANDARD
TZOFFSETFROM:-0600
TZOFFSETTO:-0600
TZNAME:CST
DTSTART:20240101T000000
END:STANDARD
END:VTIMEZONE
BEGIN:VEVENT
DTSTART;TZID=America/Mexico_City:20250214T200000
DTEND;TZID=America/Mexico_City:20250214T200000
DTSTAMP:20260425T181126
CREATED:20251023T000127Z
LAST-MODIFIED:20251028T213618Z
UID:30287-1739563200-1739563200@soyvinicola.com
SUMMARY:Valentine
DESCRIPTION:El viñedo está listo  para sorprenderte con un menú especial del 14 al 16 de febrero\, dejate envolver por los sabores de la región y comparte un trago especial que enamorara tus sentidos: Haz tu reservación para los dias 14 -16 de febrero.
URL:https://soyvinicola.com/eventos/valentine-2/
CATEGORIES:Cena
END:VEVENT
BEGIN:VEVENT
DTSTART;TZID=America/Mexico_City:20250214T200000
DTEND;TZID=America/Mexico_City:20250214T200000
DTSTAMP:20260425T181126
CREATED:20251023T000126Z
LAST-MODIFIED:20251028T212407Z
UID:30286-1739563200-1739563200@soyvinicola.com
SUMMARY:Amor entre viñedos
DESCRIPTION:Disfruta de una cena romantica de 4 tiempos con música en vivo el 14 y 15 de Febrero
URL:https://soyvinicola.com/eventos/amor-entre-vinedos-2/
CATEGORIES:Cena
END:VEVENT
BEGIN:VEVENT
DTSTART;TZID=America/Mexico_City:20250214T190000
DTEND;TZID=America/Mexico_City:20250214T190000
DTSTAMP:20260425T181126
CREATED:20251023T000126Z
LAST-MODIFIED:20251028T212349Z
UID:30285-1739559600-1739559600@soyvinicola.com
SUMMARY:14 de Febrero en el Viñedo
DESCRIPTION:El Viñedo con el mejor plan para el dia del Amor y la Amistad
URL:https://soyvinicola.com/eventos/14-de-febrero-en-el-vinedo-2/
CATEGORIES:Celebración
END:VEVENT
BEGIN:VEVENT
DTSTART;TZID=America/Mexico_City:20250208T130000
DTEND;TZID=America/Mexico_City:20250208T130000
DTSTAMP:20260425T181126
CREATED:20251028T201249Z
LAST-MODIFIED:20251028T213748Z
UID:30817-1739019600-1739019600@soyvinicola.com
SUMMARY:VidForum
DESCRIPTION:Si eres amante del vino\, este es tu momento para asegurar tu lugar en la 5ta edición de la feria más esperada en la Ribera de Chapala\, el 8 y 9 de Febrero
URL:https://soyvinicola.com/eventos/vidforum-3/
CATEGORIES:Feria del Vino
END:VEVENT
BEGIN:VEVENT
DTSTART;TZID=America/Mexico_City:20250122T190000
DTEND;TZID=America/Mexico_City:20250122T190000
DTSTAMP:20260425T181126
CREATED:20251027T232902Z
LAST-MODIFIED:20251028T212407Z
UID:30749-1737572400-1737572400@soyvinicola.com
SUMMARY:6a. Edición Banorte Nacion de Vinos
DESCRIPTION:El evento del vino mexicano y gastronómico mas importante que agrupa a la mayor parte de las vinícolas de México. Dos día 22 y 23 de Enero para disfrutar.
URL:https://soyvinicola.com/eventos/6a-edicion-banorte-nacion-de-vinos-3/
CATEGORIES:Expo
END:VEVENT
BEGIN:VEVENT
DTSTART;TZID=America/Mexico_City:20250118T193000
DTEND;TZID=America/Mexico_City:20250118T193000
DTSTAMP:20260425T181126
CREATED:20251023T000125Z
LAST-MODIFIED:20251028T213244Z
UID:30282-1737228600-1737228600@soyvinicola.com
SUMMARY:Leyendo Estrellas
DESCRIPTION:Prepárate para una noche mágica donde leeremos las estrellas para el 2025 junto a Zaira García. Se llevará a cabo una platica y observación de estrellas. Disfruta de una tabla de quesos\, la ensalada del viñedo\, una rica lasaña y un delicioso brownie. Reserva por WhatsApp: (442) 376 5140
URL:https://soyvinicola.com/eventos/leyendo-estrellas-2/
CATEGORIES:Noche Mágica
END:VEVENT
END:VCALENDAR