BEGIN:VCALENDAR
VERSION:2.0
PRODID:-//Soy Vinícola - ECPv6.15.16//NONSGML v1.0//EN
CALSCALE:GREGORIAN
METHOD:PUBLISH
X-WR-CALNAME:Soy Vinícola
X-ORIGINAL-URL:https://soyvinicola.com
X-WR-CALDESC:Eventos para Soy Vinícola
REFRESH-INTERVAL;VALUE=DURATION:PT1H
X-Robots-Tag:noindex
X-PUBLISHED-TTL:PT1H
BEGIN:VTIMEZONE
TZID:America/Mexico_City
BEGIN:STANDARD
TZOFFSETFROM:-0600
TZOFFSETTO:-0600
TZNAME:CST
DTSTART:20240101T000000
END:STANDARD
END:VTIMEZONE
BEGIN:VEVENT
DTSTART;TZID=America/Mexico_City:20260328T130000
DTEND;TZID=America/Mexico_City:20260328T203000
DTSTAMP:20260425T053800
CREATED:20260312T224126Z
LAST-MODIFIED:20260312T224545Z
UID:31174-1774702800-1774729800@soyvinicola.com
SUMMARY:Fermente Fest 2026: El vino mexicano orgánico  y biodinámico en su maxima expresión!
DESCRIPTION:En su 4ª. Edición\, en el festival podrás degustar alrededor de 100 etiquetas de bodegas o vitivinícolas destacadas en el ámbito del vino natural\, orgánico y biodinámico\, tales como kombuchas\, sidras\, cervezas\, pulque\, vino natural y demás fermentados.  Este año participarán cerca de 30 expositores\, con una oferta gastronómica de cocineras tradicionales del estado de Guanajuato\, participará la Marca Guanajuato y una zona de bazar con productos de joyería y textiles.
URL:https://soyvinicola.com/eventos/fermente-fest-2026-el-vino-mexicano-organico-y-biodinamico-en-su-maxima-expresion/
LOCATION:Foro El Obraje\, SMA\, Calz. De La Presa 50\, Zona Centro\, San Miguel de Allende\, Gto.\, San Miguel de Allende\, Guanajuato\, 37700\, Mexico
CATEGORIES:Expo
ATTACH;FMTTYPE=image/jpeg:https://soyvinicola.com/wp-content/uploads/2026/03/Fermentes-2026_Gto.jpg
END:VEVENT
BEGIN:VEVENT
DTSTART;TZID=America/Mexico_City:20260328T120000
DTEND;TZID=America/Mexico_City:20260329T200000
DTSTAMP:20260425T053800
CREATED:20260312T230257Z
LAST-MODIFIED:20260312T230600Z
UID:31186-1774699200-1774814400@soyvinicola.com
SUMMARY:Bubble Fest 2026: Wine & Music Festival
DESCRIPTION:El festival más grande de vino espumoso te está esperando en Sala Vivé.Celebra dos días llenos de música\, burbujas y diversión con la Octava Edición del Bubbles Fest. Descubre más de 100 etiquetas de vino espumoso de México y el Mundo en la Zona de Burbujas y celebra con la mejor música de Bandas y DJ completamente en vivo.
URL:https://soyvinicola.com/eventos/bubble-fest-2026-wine-music-festival/
LOCATION:Ags
CATEGORIES:Festival
ATTACH;FMTTYPE=image/jpeg:https://soyvinicola.com/wp-content/uploads/2026/03/Bubble-Fest_Sala-Vive_2026.jpg
END:VEVENT
BEGIN:VEVENT
DTSTART;TZID=America/Mexico_City:20260328T100000
DTEND;TZID=America/Mexico_City:20260329T190000
DTSTAMP:20260425T053800
CREATED:20260320T234154Z
LAST-MODIFIED:20260320T234245Z
UID:31220-1774692000-1774810800@soyvinicola.com
SUMMARY:Feria del Vino Aguascalientes
DESCRIPTION:No te pierdas  la 10.ª edición de la Feria del Vino en Aguascalientes 2026. Este evento destaca la cultura vitivinícola local y es uno de los eventos previos más relevantes antes de la gran Feria Nacional de San Marcos\, que inicia en abril.
URL:https://soyvinicola.com/eventos/feria-del-vino-aguascalientes/
LOCATION:Ex Hacienda La Unión\, San Francisco de los Romo\, AGS.\, AGS18\, Barranquillas\, Ags.\, Aguascalientes\, Ags\, 20305\, Mexico
CATEGORIES:Conferencias y Musica
ATTACH;FMTTYPE=image/jpeg:https://soyvinicola.com/wp-content/uploads/2026/03/Feria-del-Vino-Ags_2.jpg
END:VEVENT
BEGIN:VEVENT
DTSTART;TZID=America/Mexico_City:20260328T080000
DTEND;TZID=America/Mexico_City:20260328T170000
DTSTAMP:20260425T053800
CREATED:20260312T234330Z
LAST-MODIFIED:20260312T234428Z
UID:31193-1774684800-1774717200@soyvinicola.com
SUMMARY:Feria del Vino de Aguascalientes | Viaje Enoturístico
DESCRIPTION:WineRoots te invita a un viaje inolvidable entre copas y viñedos. Asiste a la 10ª Feria del Vino en Aguascalientes este próximo 28 y 29 de marzo. Han preparado una experiencia saliendo desde Querétaro. El paquete incluye: Hospedaje en Hotel 5* (Las Trojes) con desayuno buffet y acceso total a la Feria. Además de un city tour.
URL:https://soyvinicola.com/eventos/feria-del-vino-de-aguascalientes-viaje-enoturistico/
LOCATION:Ex Hacienda La Unión\, Campestre San Carlos\, Pabellón de Arteaga\, Aguascalientes\, Mexico\, Mexico\, Aguascalientes\, 20666\, Mexico
CATEGORIES:Enoturismo
ATTACH;FMTTYPE=image/jpeg:https://soyvinicola.com/wp-content/uploads/2026/03/Feria-del-Vino-Aguascalientes_2026.jpg
END:VEVENT
BEGIN:VEVENT
DTSTART;TZID=America/Mexico_City:20260321T130000
DTEND;TZID=America/Mexico_City:20260321T200000
DTSTAMP:20260425T053800
CREATED:20260312T210358Z
LAST-MODIFIED:20260312T210505Z
UID:31166-1774098000-1774123200@soyvinicola.com
SUMMARY:Bienvenida a la Primavera en Viñedo de Coahuila
DESCRIPTION:El sábado 21 de marzo…llega la primavera a Hacienda Florida! ¡Dale la bienvenida: habrá asador campestre\, música\, fotos digitales entre las vides\, cata de frutas primaverales y mucho más! Información: Whats 844 527 1527
URL:https://soyvinicola.com/eventos/bienvenida-a-la-primavera-en-vinedo-de-coahuila/
LOCATION:Hacienda Florida\, Carretera Autopista Saltillo - Torreon\, Km. 22\, Gral. Cepeda\, Coah.\, Mexico\, Coahuila\, 25978\, Mexico
CATEGORIES:Evento
ATTACH;FMTTYPE=image/jpeg:https://soyvinicola.com/wp-content/uploads/2026/03/Hacienda-Florida_Bienvenida-Primavera-2026.jpg
END:VEVENT
BEGIN:VEVENT
DTSTART;TZID=America/Mexico_City:20260318T120000
DTEND;TZID=America/Mexico_City:20260318T130000
DTSTAMP:20260425T053800
CREATED:20260320T233209Z
LAST-MODIFIED:20260320T233335Z
UID:31216-1773835200-1773838800@soyvinicola.com
SUMMARY:¿Te gustaría conocer más sobre los vinos de Rueda?
DESCRIPTION:Descubre su origen\, características y el estilo que los ha posicionado como uno de los grandes referentes del vino blanco en una Master Class especial dedicada a esta denominación\, que se llevará a cabo en Exphotel Puerto Vallarta 2026. Una sesión en línea guiada desde España por: Santiago Mora Poveda\, Director General del C.R.D.O. Rueda. También podrás ver de manera online.
URL:https://soyvinicola.com/eventos/te-gustaria-conocer-mas-sobre-los-vinos-de-rueda/
LOCATION:Ags
CATEGORIES:Curso
ATTACH;FMTTYPE=image/jpeg:https://soyvinicola.com/wp-content/uploads/2026/03/Vinos-Rueda_Vallarta.jpg
END:VEVENT
BEGIN:VEVENT
DTSTART;TZID=America/Mexico_City:20260314T140000
DTEND;TZID=America/Mexico_City:20260315T170000
DTSTAMP:20260425T053800
CREATED:20260313T011711Z
LAST-MODIFIED:20260313T011851Z
UID:31207-1773496800-1773594000@soyvinicola.com
SUMMARY:Disfruta el Puente de Marzo en Sala Vive
DESCRIPTION:Este puente pásalo increíble con música en vivo\, vino\, gastronomía y el ambiente perfecto para disfrutar el fin de semana en el viñedo. Disfruta del vino mexicano!
URL:https://soyvinicola.com/eventos/disfruta-el-puente-de-marzo-en-sala-vive/
LOCATION:Viñedos Sala Vive\, Carretera San Juan del Río - Cadereyta Km. 40.5 Los Perez\, Ezequiel Montes\, Qro.\, Queretaro\, Ezequiel Montes\, Qro.\, 76686\, Mexico
CATEGORIES:Evento
ATTACH;FMTTYPE=image/jpeg:https://soyvinicola.com/wp-content/uploads/2026/03/Puente-de-Marzo-en-Sala-Vive.jpg
END:VEVENT
BEGIN:VEVENT
DTSTART;TZID=America/Mexico_City:20260312T200000
DTEND;TZID=America/Mexico_City:20260312T220000
DTSTAMP:20260425T053800
CREATED:20260313T005542Z
LAST-MODIFIED:20260313T005634Z
UID:31200-1773345600-1773352800@soyvinicola.com
SUMMARY:Calendario de Catas La Castellana Monterrey
DESCRIPTION:En la sucursal Fuentes del Valle podrás disfrutar los jueves 12\,19 y 26 de marzo catas de vino y de tequila. Es una buena oportunidad de conocer varias opciones del mundo vinicola.
URL:https://soyvinicola.com/eventos/calendario-de-catas-la-castellana-monterrey/
LOCATION:La  Castellana. Sucursal Fuentes del Valle-Monterrey\, Calz. Mauricio Fernández Garza 400\, Fuentes del Valle\, 66224 San Pedro Garza García\, N.L.\, Monterrey\, 66224\, Mexico
CATEGORIES:Catas
ATTACH;FMTTYPE=image/jpeg:https://soyvinicola.com/wp-content/uploads/2026/03/Catas-La-Castellana_Mty.jpg
END:VEVENT
BEGIN:VEVENT
DTSTART;TZID=America/Mexico_City:20260307T120000
DTEND;TZID=America/Mexico_City:20260307T170000
DTSTAMP:20260425T053800
CREATED:20260312T015151Z
LAST-MODIFIED:20260312T015153Z
UID:31160-1772884800-1772902800@soyvinicola.com
SUMMARY:Vino Fest 2026 en Sonora
DESCRIPTION:Un encuentro donde la música\, el vino\, la gastronomía y la playa se conjugan para generar experiencias compartidas y momentos de disfrute colectivo.
URL:https://soyvinicola.com/eventos/vino-fest-2026-en-sonora/
LOCATION:Ags
CATEGORIES:Festival
ATTACH;FMTTYPE=image/jpeg:https://soyvinicola.com/wp-content/uploads/2026/03/Vino-Fest_2026.jpg
END:VEVENT
BEGIN:VEVENT
DTSTART;TZID=America/Mexico_City:20260306T100000
DTEND;TZID=America/Mexico_City:20260306T170000
DTSTAMP:20260425T053800
CREATED:20260312T012648Z
LAST-MODIFIED:20260312T012854Z
UID:31145-1772791200-1772816400@soyvinicola.com
SUMMARY:Day Pass en un viñedo!
DESCRIPTION:Durante los fines de semana de marzo\, de jueves a domingo\, disfruta un día especial en Casa Raíces\, el hotel de Vinícola Tres Raíces\, donde podrás relajarte junto a la alberca\, brindar con una copa de vino rosé y dejarte consentir en un entorno rodeado de naturaleza\, tranquilidad y la esencia del enoturismo en Guanajuato. Reservaciones al 418 151 5606.
URL:https://soyvinicola.com/eventos/alojate-en-un-vinedo/
LOCATION:Vinicola Tres Raices\, Carretera Dolores Hidalgo - San Miguel de Allende km 7.5\, Dolores Hidalgo\, Guanajuato\, México.\, México\, Dolores Hidalgo\, 37804\, Mexico
CATEGORIES:Enoturismo,Guanajuato
ATTACH;FMTTYPE=image/jpeg:https://soyvinicola.com/wp-content/uploads/2026/03/Day-Pass-Vinicola-Tres-Raices.jpg
END:VEVENT
BEGIN:VEVENT
DTSTART;TZID=America/Mexico_City:20260306T080000
DTEND;TZID=America/Mexico_City:20260316T210000
DTSTAMP:20260425T053800
CREATED:20260312T013728Z
LAST-MODIFIED:20260312T014252Z
UID:31154-1772784000-1773694800@soyvinicola.com
SUMMARY:Tour Enológico a Argentina y Chile
DESCRIPTION:Un recorrido guiado por regiones vitivinícolas de Argentina y Chile\, enfocado en comprender el vino desde su territorio\, sus decisiones productivas y su contexto cultural. Grupo reducido con acompañamiento de Vinotelia. Más información al cel: 479 392 9096
URL:https://soyvinicola.com/eventos/tour-enologico-a-argentina-y-chile/
LOCATION:Ags
CATEGORIES:Enoturismo,Recorridos
ATTACH;FMTTYPE=image/jpeg:https://soyvinicola.com/wp-content/uploads/2026/03/Viaje-Enologico_Chile_Argentina.jpg
END:VEVENT
BEGIN:VEVENT
DTSTART;TZID=America/Mexico_City:20260305T120000
DTEND;TZID=America/Mexico_City:20260307T200000
DTSTAMP:20260425T053800
CREATED:20260312T010649Z
LAST-MODIFIED:20260312T010734Z
UID:31137-1772712000-1772913600@soyvinicola.com
SUMMARY:Vinoma Weekend 2026: la gran fiesta del vino llega a Puerto Vallarta\, Jalisco
DESCRIPTION:Del 5 al 7 de marzo\, la Terminal Marítima se transforma en la fiesta del vino. Más de 300 etiquetas\, gastronomía curada y una comunidad que sabe disfrutar. la oportunidad de descubrir nuevas bodegas\, estilos y regiones vinícolas en un ambiente relajado y festivo. Asegura tu lugar en boletomovil.com
URL:https://soyvinicola.com/eventos/vinoma-weekend-2026-la-gran-fiesta-del-vino-llega-a-puerto-vallarta-jalisco/
LOCATION:Terminal Maritima. Muelle 2. Puerto Vallarta Jalisco\, Boulevard Francisco Medina Ascencio\, km 4.5. En la zona hotelera de Puerto Vallarta\, Jalisco.
CATEGORIES:Festival
ATTACH;FMTTYPE=image/jpeg:https://soyvinicola.com/wp-content/uploads/2026/03/Vinoma-Fest-2026.jpg
END:VEVENT
BEGIN:VEVENT
DTSTART;TZID=America/Mexico_City:20260222T080000
DTEND;TZID=America/Mexico_City:20260222T140000
DTSTAMP:20260425T053800
CREATED:20260311T005228Z
LAST-MODIFIED:20260311T005522Z
UID:31125-1771747200-1771768800@soyvinicola.com
SUMMARY:Rodada con Causa entre Viñedos: Experiencia de Vino y Naturaleza
DESCRIPTION:Vive una rodada ciclista recreativa de 30 km entre los viñedos de San Juanito\, Tierra Morada y Vinaltura\, una ruta perfecta para disfrutar en familia y con amigos. Esta actividad combina deporte\, paisaje y la esencia del vino mexicano\, ideal para quienes buscan una experiencia enoturística diferente cerca de la ciudad.
URL:https://soyvinicola.com/eventos/rodada-con-causa-entre-vinedos-experiencia-de-vino-y-naturaleza/
LOCATION:Viñedos San Juanito\, Antiguo Camino a San Juan SN\, San José de la Laja\, Qro.\, Mexico\, Querétaro\, 76791\, Mexico
ATTACH;FMTTYPE=image/jpeg:https://soyvinicola.com/wp-content/uploads/2026/03/San-Juanito_Rodada_Febrero.jpg
END:VEVENT
BEGIN:VEVENT
DTSTART;TZID=America/Mexico_City:20260221T120000
DTEND;TZID=America/Mexico_City:20260222T200000
DTSTAMP:20260425T053800
CREATED:20260311T000059Z
LAST-MODIFIED:20260311T000328Z
UID:31099-1771675200-1771790400@soyvinicola.com
SUMMARY:Vid Forum
DESCRIPTION:VidForum 2026 es el punto de encuentro para quienes disfrutan el vino más allá de la copa: etiquetas excepcionales\, buena compañía y un entorno único frente al lago. Boletos disponibles.
URL:https://soyvinicola.com/eventos/vid-forum/
LOCATION:Club de Yates de Chapala\,  Jalisco\, P.º Ramón Corona 1\, La Cristianía\, 45900 Chapala\, Jal.\, Mexico\, Jalisco\, 45900\, Mexico
CATEGORIES:Evento,Expo
ATTACH;FMTTYPE=image/jpeg:https://soyvinicola.com/wp-content/uploads/2026/03/VidForum-2026.jpg
END:VEVENT
BEGIN:VEVENT
DTSTART;TZID=America/Mexico_City:20260214T190000
DTEND;TZID=America/Mexico_City:20260214T220000
DTSTAMP:20260425T053800
CREATED:20260310T234356Z
LAST-MODIFIED:20260310T234603Z
UID:31091-1771095600-1771106400@soyvinicola.com
SUMMARY:San Valentín en el Viñedo
DESCRIPTION:Este 14 de febrero vive una noche especial con una cena acompañada de un show de la mejor música romántica entre viñedos y bajo las estrellas!!
URL:https://soyvinicola.com/eventos/san-valentin-en-el-vinedo/
LOCATION:Viñedo Tierra de Alonso\, Carr. Querétaro-Tequisquiapan 707. Purísima de Cubos\, Mexico\, Queretaro\, 76270\, Mexico
CATEGORIES:Evento con Maridajes y Degustaciones
ATTACH;FMTTYPE=image/jpeg:https://soyvinicola.com/wp-content/uploads/2026/03/Tierra-de-Alonso_14-Feb.jpg
END:VEVENT
BEGIN:VEVENT
DTSTART;TZID=America/Mexico_City:20260206T080000
DTEND;TZID=America/Mexico_City:20260207T183000
DTSTAMP:20260425T053800
CREATED:20260311T003219Z
LAST-MODIFIED:20260311T003529Z
UID:31115-1770364800-1770489000@soyvinicola.com
SUMMARY:Escápate del ruido de CDMX y vive una experiencia de vino en Viñedo El Refugio.
DESCRIPTION:Este viñedo en Nopala te invita a descubrir sus espacios\, sabores y actividades diseñadas para quienes aman el vino y buscan una escapada auténtica cerca de la ciudad.
URL:https://soyvinicola.com/eventos/viaje-gastronomico-y-enologico/
LOCATION:Viñedo El Refugio\, 75QP+W6\, 42488 El Refugio\, Hgo.\, Mexico\, Hidalgo\, 42488\, Mexico
ATTACH;FMTTYPE=image/jpeg:https://soyvinicola.com/wp-content/uploads/2026/03/Viaje-Enologico_Hidalgo-206.jpg
END:VEVENT
BEGIN:VEVENT
DTSTART;TZID=America/Mexico_City:20260205T130000
DTEND;TZID=America/Mexico_City:20260208T200000
DTSTAMP:20260425T053800
CREATED:20260311T001740Z
LAST-MODIFIED:20260311T001742Z
UID:31107-1770296400-1770580800@soyvinicola.com
SUMMARY:Vinofy
DESCRIPTION:Se invita a toda la comunidad usuaria de esta app a disfrutar una semana dedicada al arte y el diseño\, acompañada de una copa de vino. Del 5 al 8 de febrero\, los socios de VINOFY contarán con acceso VIP (cupo limitado). Para más información\, envía un mensaje directo a su cuenta de Instagram. Si no eres socio\, puedes adquirir tus boletos aquí:  https://www.tickettailor.com/events/uniquedesignxgroupllc/2018083. \n\n\n\n\n\n\n\n 
URL:https://soyvinicola.com/eventos/vinofy/
LOCATION:Expo Reforma\, Av. Morelos 67\, Juárez\, Cuauhtémoc.\, Mexico\, CDMX\, 06600\, Mexico
CATEGORIES:Expo
ATTACH;FMTTYPE=image/jpeg:https://soyvinicola.com/wp-content/uploads/2026/03/Vinofy-2026.jpg
END:VEVENT
BEGIN:VEVENT
DTSTART;TZID=America/Mexico_City:20260128T190000
DTEND;TZID=America/Mexico_City:20260129T200000
DTSTAMP:20260425T053800
CREATED:20260310T232649Z
LAST-MODIFIED:20260310T232931Z
UID:31082-1769626800-1769716800@soyvinicola.com
SUMMARY:Nación de Vinos
DESCRIPTION:28 y 29 de Enero\, el Campo Marte se hace presente nuevamente para invitarte a disfrutar de la experiencia de Banorte Nación de Vinos 2026. Productos de más de 80 bodegas de vino mexicano provenientes de distintas regiones vitivinícolas del país dan vida a su séptima edición
URL:https://soyvinicola.com/eventos/nacion-de-vinos/
LOCATION:Campo Marte\, Av. Paseo de la Reforma s/n\, Mexico\, CDMX\, 11560\, Mexico
CATEGORIES:Expo
ATTACH;FMTTYPE=image/jpeg:https://soyvinicola.com/wp-content/uploads/2026/03/Nacion-de-Vinos-ok_2026.jpg
END:VEVENT
BEGIN:VEVENT
DTSTART;TZID=America/Mexico_City:20260106T130000
DTEND;TZID=America/Mexico_City:20260106T200000
DTSTAMP:20260425T053800
CREATED:20260310T230752Z
LAST-MODIFIED:20260310T231135Z
UID:31074-1767704400-1767729600@soyvinicola.com
SUMMARY:MaCo Fest 2026
DESCRIPTION:Evento de MaCo Vineyards.mx ofrece lo mejor de sus vinos y ha invitado a los chefs Claire y Julien Drouot\, quienes formarán parte de una edición pensada para celebrar la alta cocina\, el intercambio cultural y las grandes experiencias alrededor de la mesa.
URL:https://soyvinicola.com/eventos/maco-fest-2026/
LOCATION:Camino Arenero # 1350. El Bajío. Zapopan\, Jalisco. 45019\, Camino Arenero # 1350\, Zapopan\, Jalisco\, Guadalajara\, 45019\, Mexico
CATEGORIES:Casa Vinicola,MacoFest
ATTACH;FMTTYPE=image/jpeg:https://soyvinicola.com/wp-content/uploads/2026/03/MacoFest-2026.jpg
END:VEVENT
BEGIN:VEVENT
DTSTART;TZID=America/Mexico_City:20251124T120000
DTEND;TZID=America/Mexico_City:20251124T120000
DTSTAMP:20260425T053800
CREATED:20251027T233550Z
LAST-MODIFIED:20251028T212554Z
UID:30776-1763985600-1763985600@soyvinicola.com
SUMMARY:Calaveras y Vino
DESCRIPTION:Del 24 de octubre al 2 de noviembre\, vive el Festival Cultural de Calaveras en Aguascalientes y descubre la Ruta del Vino AGS: viñedos\, catas y experiencias que celebran tradición y sabor. Reservaciones: 449 605 8088
URL:https://soyvinicola.com/eventos/calaveras-y-vino-2/
LOCATION:Ags
CATEGORIES:Festejos y Recorridos por Viñedos de Aguascalientes
END:VEVENT
BEGIN:VEVENT
DTSTART;TZID=America/Mexico_City:20251101T183000
DTEND;TZID=America/Mexico_City:20251101T183000
DTSTAMP:20260425T053800
CREATED:20251028T202650Z
LAST-MODIFIED:20251028T212608Z
UID:30841-1762021800-1762021800@soyvinicola.com
SUMMARY:Dia de Muertos
DESCRIPTION:Una noche que unirá tradición\, sabor y memoria. Una velada guiada por grandes talentos: Los Chefs Shary Romo y Alex Chávez\, de Restaurante ”Propio”\, Sergio Villareal\, “El Mixólogo” y el chef de la casa\, Hugo Sandoval.
URL:https://soyvinicola.com/eventos/dia-de-muertos-6/
LOCATION:Ags
CATEGORIES:Velada
END:VEVENT
BEGIN:VEVENT
DTSTART;TZID=America/Mexico_City:20251031T180000
DTEND;TZID=America/Mexico_City:20251031T180000
DTSTAMP:20260425T053800
CREATED:20251027T233535Z
LAST-MODIFIED:20251028T213948Z
UID:30775-1761933600-1761933600@soyvinicola.com
SUMMARY:Vino y Película para Halloween
DESCRIPTION:Disfruta una noche mágica entre viñedos\, buen vino y cine bajo las estrellas. Un plan diferente para estas fechas que puedes disfrutar con toda la familia. Solo pagas tu consumo. Reserva tu lugar y asegura la mejor vista. 449 976 1843
URL:https://soyvinicola.com/eventos/vino-y-pelicula-para-halloween-2/
LOCATION:Ags
CATEGORIES:Proyeccion de Pelicula
END:VEVENT
BEGIN:VEVENT
DTSTART;TZID=America/Mexico_City:20251031T120000
DTEND;TZID=America/Mexico_City:20251031T120000
DTSTAMP:20260425T053800
CREATED:20251027T233513Z
LAST-MODIFIED:20251028T213244Z
UID:30772-1761912000-1761912000@soyvinicola.com
SUMMARY:Leyendas entre Viñedos en Parras\, Coahuila
DESCRIPTION:Este Halloween\, deja que la noche te susurre sus secretos…Este Halloween\, deja que la noche te susurre sus secretos… Fogata al aire libre; Paseo en tractor por viñedo\, nogalera y cementerio de los cipreses. Botella de vino por pareja\, Tabla de charcutería para compartir\, Narración de leyendas en vivo
URL:https://soyvinicola.com/eventos/leyendas-entre-vinedos-en-parras-coahuila-2/
LOCATION:Ags
CATEGORIES:Halloween
END:VEVENT
BEGIN:VEVENT
DTSTART;TZID=America/Mexico_City:20251031T110000
DTEND;TZID=America/Mexico_City:20251031T110000
DTSTAMP:20260425T053800
CREATED:20251027T233535Z
LAST-MODIFIED:20251028T213212Z
UID:30774-1761908400-1761908400@soyvinicola.com
SUMMARY:Hallowine
DESCRIPTION:El eco de leyendas antiguas despierta… Y el vino se convierte en el elixir del más allá. Vive el Hallowine con fogatada de los espíritus\, concurso de disfraces\, catas\, y más. Entrada Libre. Mas info en https://laredondavinos.com/collections/hallowine-2025. Tienes hasta el 2 de Noviembre
URL:https://soyvinicola.com/eventos/hallowine-2/
LOCATION:Ags
CATEGORIES:Festejos Dia de Muertos
END:VEVENT
BEGIN:VEVENT
DTSTART;TZID=America/Mexico_City:20251031T070000
DTEND;TZID=America/Mexico_City:20251031T070000
DTSTAMP:20260425T053800
CREATED:20251027T233513Z
LAST-MODIFIED:20251028T214351Z
UID:30773-1761894000-1761894000@soyvinicola.com
SUMMARY:Wine & Wellness Experience
DESCRIPTION:¡El pedal se siente diferente entre viñedos! Vive una experiencia única con Valanc en una clase de indoor al aire libre rodeado de paisajes y buena vibra. Dress Code Opcional: Halloween.¡Cupos limitados! Reserva tu lugar: +52 441 129 9251
URL:https://soyvinicola.com/eventos/wine-wellness-experience-2/
LOCATION:Ags
CATEGORIES:Indoor cycling
END:VEVENT
BEGIN:VEVENT
DTSTART;TZID=America/Mexico_City:20251024T200000
DTEND;TZID=America/Mexico_City:20251024T200000
DTSTAMP:20260425T053800
CREATED:20251027T233513Z
LAST-MODIFIED:20251028T213509Z
UID:30771-1761336000-1761336000@soyvinicola.com
SUMMARY:Tales from the Wine
DESCRIPTION:En estas fechas\, las leyendas del vino ¡cobran vida! Disfruta de Tales from the wine con recorrido guiado por viñedo y bodega escuchando leyendas e historias. Degustarás de cinco copas de vino\, tabla de charcutería y copa personalizada. Consulta horarios y reservaciones en https://vinosparvada.com/products/recorrido-cata-tales-from-the-wine. Tienes hasta el 7 de Noviembre.
URL:https://soyvinicola.com/eventos/tales-from-the-wine-2/
LOCATION:Ags
CATEGORIES:Velada Nocturna
END:VEVENT
BEGIN:VEVENT
DTSTART;TZID=America/Mexico_City:20251018T120000
DTEND;TZID=America/Mexico_City:20251018T120000
DTSTAMP:20260425T053800
CREATED:20251027T233513Z
LAST-MODIFIED:20251028T213439Z
UID:30770-1760788800-1760788800@soyvinicola.com
SUMMARY:Mientras Tanto un Vino (Silao)
DESCRIPTION:Más que un evento… es una invitación a disfrutar del vino con calma\, en un ambiente relajado\, rodeado de buena música\, buena comida y\, sobre todo\, buena compañía. 18 y 19 de Octubre.
URL:https://soyvinicola.com/eventos/mientras-tanto-un-vino-silao-2/
LOCATION:Ags
CATEGORIES:Expo
END:VEVENT
BEGIN:VEVENT
DTSTART;TZID=America/Mexico_City:20251018T120000
DTEND;TZID=America/Mexico_City:20251018T120000
DTSTAMP:20260425T053800
CREATED:20251027T233513Z
LAST-MODIFIED:20251028T214351Z
UID:30769-1760788800-1760788800@soyvinicola.com
SUMMARY:Wine & Food Fest
DESCRIPTION:El Museo del Vino en Dolores Hidalgo será el escenario del WINE & FOOD FEST° de la Vendimia\, y tú estás invitad@ a cerrar la temporada con lo mejor: vino\, sabor y mucha fiesta: Vinos de las mejores bodegas de Guanajuato; Música en vivo; Cocina deliciosa; Catas\, talleres y…¡La tradicional pisa de uvas! Costo: $600 | Info: 418-187-8225
URL:https://soyvinicola.com/eventos/wine-food-fest-2/
LOCATION:Ags
CATEGORIES:Expo
END:VEVENT
BEGIN:VEVENT
DTSTART;TZID=America/Mexico_City:20251018T100000
DTEND;TZID=America/Mexico_City:20251018T100000
DTSTAMP:20260425T053800
CREATED:20251027T233402Z
LAST-MODIFIED:20251028T212407Z
UID:30768-1760781600-1760781600@soyvinicola.com
SUMMARY:5o. Festival del Vino Queretano
DESCRIPTION:El Festival del Vino Queretano reúne en un solo lugar a más de 30 proyectos vitivinícolas de la región: bodegas\, etiquetas y productores que dan vida a nuestra tierra. Celebra el cierre de las vendimias junto a quienes hacen posible el vino de Querétaro. 18 y 19 de Octubre
URL:https://soyvinicola.com/eventos/5o-festival-del-vino-queretano-2/
LOCATION:Ags
CATEGORIES:Conferencias y Musica,Expo
END:VEVENT
BEGIN:VEVENT
DTSTART;TZID=America/Mexico_City:20251016T190000
DTEND;TZID=America/Mexico_City:20251016T190000
DTSTAMP:20260425T053800
CREATED:20251028T202620Z
LAST-MODIFIED:20251028T212554Z
UID:30840-1760641200-1760641200@soyvinicola.com
SUMMARY:Catrinas y Catrines
DESCRIPTION:¡Llegaron los Recorridos entre Catrinas y Catrines! Vive una experiencia única entre historia\, arte y vino\, con la espectacular actuación de Don Diablo interpretado por Lalo Gómez de Callejuelas Teatro.  Los dias 16\,18 y 24 de octubre
URL:https://soyvinicola.com/eventos/catrinas-y-catrines-3/
LOCATION:Ags
CATEGORIES:Velada Nocturna
END:VEVENT
END:VCALENDAR