BEGIN:VCALENDAR
VERSION:2.0
PRODID:-//Soy Vinícola - ECPv6.15.16//NONSGML v1.0//EN
CALSCALE:GREGORIAN
METHOD:PUBLISH
X-WR-CALNAME:Soy Vinícola
X-ORIGINAL-URL:https://soyvinicola.com
X-WR-CALDESC:Eventos para Soy Vinícola
REFRESH-INTERVAL;VALUE=DURATION:PT1H
X-Robots-Tag:noindex
X-PUBLISHED-TTL:PT1H
BEGIN:VTIMEZONE
TZID:America/Mexico_City
BEGIN:STANDARD
TZOFFSETFROM:-0600
TZOFFSETTO:-0600
TZNAME:CST
DTSTART:20250101T000000
END:STANDARD
END:VTIMEZONE
BEGIN:VEVENT
DTSTART;TZID=America/Mexico_City:20260312T200000
DTEND;TZID=America/Mexico_City:20260312T220000
DTSTAMP:20260420T034735
CREATED:20260313T005542Z
LAST-MODIFIED:20260313T005634Z
UID:31200-1773345600-1773352800@soyvinicola.com
SUMMARY:Calendario de Catas La Castellana Monterrey
DESCRIPTION:En la sucursal Fuentes del Valle podrás disfrutar los jueves 12\,19 y 26 de marzo catas de vino y de tequila. Es una buena oportunidad de conocer varias opciones del mundo vinicola.
URL:https://soyvinicola.com/eventos/calendario-de-catas-la-castellana-monterrey/
LOCATION:La  Castellana. Sucursal Fuentes del Valle-Monterrey\, Calz. Mauricio Fernández Garza 400\, Fuentes del Valle\, 66224 San Pedro Garza García\, N.L.\, Monterrey\, 66224\, Mexico
CATEGORIES:Catas
ATTACH;FMTTYPE=image/jpeg:https://soyvinicola.com/wp-content/uploads/2026/03/Catas-La-Castellana_Mty.jpg
END:VEVENT
END:VCALENDAR